BEGIN:VCALENDAR
VERSION:2.0
PRODID:-//jEvents 2.0 for Joomla//EN
CALSCALE:GREGORIAN
METHOD:PUBLISH
BEGIN:VTIMEZONE
TZID:Europe/Zurich
BEGIN:STANDARD
DTSTART:20251026T020000
RDATE:20260329T030000
TZOFFSETFROM:+0200
TZOFFSETTO:+0100
TZNAME:Europe/Zurich CET
END:STANDARD
BEGIN:STANDARD
DTSTART:20261025T020000
RDATE:20270328T030000
TZOFFSETFROM:+0200
TZOFFSETTO:+0100
TZNAME:Europe/Zurich CET
END:STANDARD
BEGIN:STANDARD
DTSTART:20271031T020000
RDATE:20280326T030000
TZOFFSETFROM:+0200
TZOFFSETTO:+0100
TZNAME:Europe/Zurich CET
END:STANDARD
BEGIN:STANDARD
DTSTART:20281029T020000
RDATE:20290325T030000
TZOFFSETFROM:+0200
TZOFFSETTO:+0100
TZNAME:Europe/Zurich CET
END:STANDARD
BEGIN:STANDARD
DTSTART:20291028T020000
RDATE:20300331T030000
TZOFFSETFROM:+0200
TZOFFSETTO:+0100
TZNAME:Europe/Zurich CET
END:STANDARD
BEGIN:DAYLIGHT
DTSTART:20250617T193000
RDATE:20251026T020000
TZOFFSETFROM:+0100
TZOFFSETTO:+0200
TZNAME:Europe/Zurich CEST
END:DAYLIGHT
BEGIN:DAYLIGHT
DTSTART:20260329T030000
RDATE:20261025T020000
TZOFFSETFROM:+0100
TZOFFSETTO:+0200
TZNAME:Europe/Zurich CEST
END:DAYLIGHT
BEGIN:DAYLIGHT
DTSTART:20270328T030000
RDATE:20271031T020000
TZOFFSETFROM:+0100
TZOFFSETTO:+0200
TZNAME:Europe/Zurich CEST
END:DAYLIGHT
BEGIN:DAYLIGHT
DTSTART:20280326T030000
RDATE:20281029T020000
TZOFFSETFROM:+0100
TZOFFSETTO:+0200
TZNAME:Europe/Zurich CEST
END:DAYLIGHT
BEGIN:DAYLIGHT
DTSTART:20290325T030000
RDATE:20291028T020000
TZOFFSETFROM:+0100
TZOFFSETTO:+0200
TZNAME:Europe/Zurich CEST
END:DAYLIGHT
END:VTIMEZONE
BEGIN:VEVENT
UID:38adc5a5-22e5-4f78-9053-7974c01f17dd
CATEGORIES:öffentliche Anlässe
CREATED:20260124T095539
SUMMARY:Konzert Stiftung Uetendorfberg
LOCATION:Uetendorf Berg
URL;VALUE=URI:https://www.mguttigen.ch/index.php/termine/kalender-abo/Eventdetail/10623/-
 /konzert-stiftung-uetendorfberg?tmpl=component
DESCRIPTION:<br/><br/><br/>? <a href="https://www.mguttigen.ch/index.php/termine/kalend
 er-abo/Eventdetail/10623/-/konzert-stiftung-uetendorfberg?tmpl=component">D
 ieser Event wurde importiert von: https://www.mguttigen.ch/index.php/termin
 e/kalender-abo/Eventdetail/10623/-/konzert-stiftung-uetendorfberg?tmpl=comp
 onent</a>DTSTAMP:20260419T183004
DTSTART;TZID=Europe/Zurich:20260618T193000
DTEND;TZID=Europe/Zurich:20260618T213000
SEQUENCE:0
TRANSP:OPAQUE
END:VEVENT
END:VCALENDAR