BEGIN:VCALENDAR
VERSION:2.0
PRODID:-//jEvents 2.0 for Joomla//EN
CALSCALE:GREGORIAN
METHOD:PUBLISH
BEGIN:VTIMEZONE
TZID:Europe/Zurich
BEGIN:STANDARD
DTSTART:20241027T020000
RDATE:20250330T030000
TZOFFSETFROM:+0200
TZOFFSETTO:+0100
TZNAME:Europe/Zurich CET
END:STANDARD
BEGIN:STANDARD
DTSTART:20251026T020000
RDATE:20260329T030000
TZOFFSETFROM:+0200
TZOFFSETTO:+0100
TZNAME:Europe/Zurich CET
END:STANDARD
BEGIN:STANDARD
DTSTART:20261025T020000
RDATE:20270328T030000
TZOFFSETFROM:+0200
TZOFFSETTO:+0100
TZNAME:Europe/Zurich CET
END:STANDARD
BEGIN:STANDARD
DTSTART:20271031T020000
RDATE:20280326T030000
TZOFFSETFROM:+0200
TZOFFSETTO:+0100
TZNAME:Europe/Zurich CET
END:STANDARD
BEGIN:STANDARD
DTSTART:20281029T020000
RDATE:20290325T030000
TZOFFSETFROM:+0200
TZOFFSETTO:+0100
TZNAME:Europe/Zurich CET
END:STANDARD
BEGIN:STANDARD
DTSTART:20291028T020000
RDATE:20300331T030000
TZOFFSETFROM:+0200
TZOFFSETTO:+0100
TZNAME:Europe/Zurich CET
END:STANDARD
BEGIN:DAYLIGHT
DTSTART:20240621T000000
RDATE:20241027T020000
TZOFFSETFROM:+0100
TZOFFSETTO:+0200
TZNAME:Europe/Zurich CEST
END:DAYLIGHT
BEGIN:DAYLIGHT
DTSTART:20250330T030000
RDATE:20251026T020000
TZOFFSETFROM:+0100
TZOFFSETTO:+0200
TZNAME:Europe/Zurich CEST
END:DAYLIGHT
BEGIN:DAYLIGHT
DTSTART:20260329T030000
RDATE:20261025T020000
TZOFFSETFROM:+0100
TZOFFSETTO:+0200
TZNAME:Europe/Zurich CEST
END:DAYLIGHT
BEGIN:DAYLIGHT
DTSTART:20270328T030000
RDATE:20271031T020000
TZOFFSETFROM:+0100
TZOFFSETTO:+0200
TZNAME:Europe/Zurich CEST
END:DAYLIGHT
BEGIN:DAYLIGHT
DTSTART:20280326T030000
RDATE:20281029T020000
TZOFFSETFROM:+0100
TZOFFSETTO:+0200
TZNAME:Europe/Zurich CEST
END:DAYLIGHT
BEGIN:DAYLIGHT
DTSTART:20290325T030000
RDATE:20291028T020000
TZOFFSETFROM:+0100
TZOFFSETTO:+0200
TZNAME:Europe/Zurich CEST
END:DAYLIGHT
END:VTIMEZONE
BEGIN:VEVENT
UID:c62a6a8d-a897-43e3-9946-225b9c11c96b
CATEGORIES:öffentliche Anlässe
CREATED:20241204T153921
SUMMARY:JUMU in Concert
LOCATION:Toffen
URL;VALUE=URI:https://www.mguttigen.ch/index.php/termine/kalender-abo/Eventdetail/9931/-/
 jumu-in-concert?tmpl=component
DESCRIPTION:Converted  by CSV-to-ICS Converter (Free Edition).   \nGet your copy at  ht
 tps://csv-to-ics.com. (https://csv-to-ics.com.) This notification can be re
 moved by purchasing  a license.    \n Dieser Event wurde importiert von: ht
 tps://www.mguttigen.ch/index.php/termine/kalender-abo/Eventdetail/9931/-/ju
 mu-in-concert?tmpl=component
X-ALT-DESC;FMTTYPE=text/html:Converted  by CSV-to-ICS Converter (Free Edition).   <br/>Get your copy at 
  <a href="https://csv-to-ics.com.">https://csv-to-ics.com.</a> This notific
 ation can be removed by purchasing  a license.    <br/> <a href="https://ww
 w.mguttigen.ch/index.php/termine/kalender-abo/Eventdetail/9931/-/jumu-in-co
 ncert?tmpl=component">Dieser Event wurde importiert von: https://www.mgutti
 gen.ch/index.php/termine/kalender-abo/Eventdetail/9931/-/jumu-in-concert?tm
 pl=component</a>DTSTAMP:20260421T015736
DTSTART;TZID=Europe/Zurich;VALUE=DATE:20250622
SEQUENCE:0
TRANSP:OPAQUE
END:VEVENT
END:VCALENDAR